BEGIN:VCALENDAR
VERSION:2.0
PRODID:-//APROFIN - Asociación Peruana De Productos Financieros - ECPv6.1.2.2//NONSGML v1.0//EN
CALSCALE:GREGORIAN
METHOD:PUBLISH
X-ORIGINAL-URL:https://aprofin.pe
X-WR-CALDESC:Eventos para APROFIN - Asociación Peruana De Productos Financieros
REFRESH-INTERVAL;VALUE=DURATION:PT1H
X-Robots-Tag:noindex
X-PUBLISHED-TTL:PT1H
BEGIN:VTIMEZONE
TZID:America/Lima
BEGIN:STANDARD
TZOFFSETFROM:-0500
TZOFFSETTO:-0500
TZNAME:-05
DTSTART:20200101T000000
END:STANDARD
END:VTIMEZONE
BEGIN:VEVENT
DTSTART;TZID=America/Lima:20200504T160000
DTEND;TZID=America/Lima:20200504T173000
DTSTAMP:20260425T184218
CREATED:20200511T192847Z
LAST-MODIFIED:20200511T221329Z
UID:365-1588608000-1588613400@aprofin.pe
SUMMARY:Situación Laboral\, tributaria y Financiera en Tiempos de COVID-19
DESCRIPTION:Nos complace mucho invitarles a participar de nuestra ponencia »SITUACIÓN TRIBUTARIA\, LABORAL Y FINANCIERA EN TIEMPOS DEL COVID-19» que realizaremos el día Lunes 4 de mayo a las 16:00 horas. \nContaremos con la participación de nuestro Gerente General Roberto Núñez Otárola. Asimismo\, nos acompañarán: \n\n Jose Antonio Perez Moron\, Asesor Tributario en Perez & Asociados Asesores Tributarios S.Civil de R.L.\nSegundo Guzmán Saldaña Vásquez\, Gerente General del Estudio Saldaña\, Abogados y Asociados\n\nQuienes nos ayudarán a aclarar diversos aspectos de cada una de las materias en las que se especializan.\nAgradecemos su inscripción en el siguiente enlace: https://lnkd.in/eCJSQ7C o al correo: cristian.stanbury@adelantafactoring.com \n 
URL:https://aprofin.pe/evento/situacion-laboral-tributaria-y-financiera-en-tiempos-de-covid-19/
CATEGORIES:COVID-19
ATTACH;FMTTYPE=image/jpeg:https://aprofin.pe/wp-content/uploads/2020/05/Situación-Laboral-tributaria-y-Financiera-en-Tiempos-de-COVID-19-1.jpg
ORGANIZER;CN="Adelanta%20Factoring":MAILTO:cristian.stanbury@adelantafactoring.com
END:VEVENT
END:VCALENDAR